BEGIN:VCALENDAR
VERSION:2.0
PRODID:SchoolNow
CALSCALE:GREGORIAN
BEGIN:VEVENT
UID:341dd8dc-4113-11ee-b8dd-0a58a9feac02
DTSTAMP:20230927T130929Z
SUMMARY:Breakfast With Books 7:30 -8:00am
URL;VALUE=URI:https://www.ronank12.edu/schools/pablo/calendar/4610028/break
 fast-with-books-7-30-8-00am
DTSTART;VALUE=DATE:20230929
DTEND;VALUE=DATE:20230930
END:VEVENT
END:VCALENDAR
