BEGIN:VCALENDAR
VERSION:2.0
PRODID:SchoolNow
CALSCALE:GREGORIAN
BEGIN:VEVENT
UID:6dca07ae-5c93-11ee-b819-0a58a9feac02
DTSTAMP:20230927T140201Z
SUMMARY:No School -  Indigenous People's Day
URL;VALUE=URI:https://www.ronank12.edu/schools/pablo/calendar/4797592/no-sc
 hool-indiginous-peoples-day
DTSTART;VALUE=DATE:20231009
DTEND;VALUE=DATE:20231010
END:VEVENT
END:VCALENDAR
