BEGIN:VCALENDAR
VERSION:2.0
PRODID:SchoolNow
CALSCALE:GREGORIAN
BEGIN:VEVENT
UID:5c215338-5c9b-11ee-b908-0a285ed6a1ef
DTSTAMP:20230926T183443Z
SUMMARY:Picture Day
URL;VALUE=URI:https://www.ronank12.edu/schools/pablo/calendar/4797595/pictu
 re-day
DTSTART;VALUE=DATE:20231005
DTEND;VALUE=DATE:20231006
END:VEVENT
END:VCALENDAR
