BEGIN:VCALENDAR
VERSION:2.0
PRODID:SchoolNow
CALSCALE:GREGORIAN
BEGIN:VEVENT
UID:70530a22-5c9b-11ee-800f-0a58a9feac02
DTSTAMP:20230927T130832Z
SUMMARY:Early Release 12:00 Dismissal - Montana Educator Days
URL;VALUE=URI:https://www.ronank12.edu/schools/pablo/calendar/4797596/early
 -release-12-00-dismissal
DTSTART;VALUE=DATE:20231018
DTEND;VALUE=DATE:20231019
END:VEVENT
END:VCALENDAR
