BEGIN:VCALENDAR
VERSION:2.0
PRODID:SchoolNow
CALSCALE:GREGORIAN
BEGIN:VEVENT
UID:c8bcdb52-5d36-11ee-97ca-0a58a9feac02
DTSTAMP:20230927T130717Z
SUMMARY:No School - Montana Educator Days
URL;VALUE=URI:https://www.ronank12.edu/schools/pablo/calendar/4800597/no-sc
 hool-montana-educator-days
DTSTART;VALUE=DATE:20231019
DTEND;VALUE=DATE:20231021
END:VEVENT
END:VCALENDAR
