BEGIN:VCALENDAR
VERSION:2.0
PRODID:SchoolNow
CALSCALE:GREGORIAN
BEGIN:VEVENT
UID:10d952a8-5d37-11ee-b608-0a58a9feac02
DTSTAMP:20231026T144738Z
SUMMARY:Bingo for Books 6:00 - 7:00 p.m.
URL;VALUE=URI:https://www.ronank12.edu/schools/pablo/calendar/4800598/bingo
 -for-books-6-00-7-00-p-m
DTSTART;VALUE=DATE:20231026
DTEND;VALUE=DATE:20231027
END:VEVENT
END:VCALENDAR
