BEGIN:VCALENDAR
VERSION:2.0
PRODID:SchoolNow
CALSCALE:GREGORIAN
BEGIN:VEVENT
UID:4a5e11ee-7407-11ee-9d24-0a58a9feac02
DTSTAMP:20231026T135515Z
SUMMARY:End of 1st Quarter
URL;VALUE=URI:https://www.ronank12.edu/schools/pablo/calendar/4901856/end-o
 f-1st-quarter
DTSTART;VALUE=DATE:20231103
DTEND;VALUE=DATE:20231104
END:VEVENT
END:VCALENDAR
