BEGIN:VCALENDAR
VERSION:2.0
PRODID:SchoolNow
CALSCALE:GREGORIAN
BEGIN:VEVENT
UID:7ecd8b94-740c-11ee-8211-0a58a9feac02
DTSTAMP:20231026T143231Z
SUMMARY:Parent/Teacher Conferences 3:30 - 6:30 pm
URL;VALUE=URI:https://www.ronank12.edu/schools/pablo/calendar/4902751/paren
 t-teacher-conferences-3-30-6-30-pm
DTSTART;VALUE=DATE:20231109
DTEND;VALUE=DATE:20231110
END:VEVENT
END:VCALENDAR
