BEGIN:VCALENDAR
VERSION:2.0
PRODID:SchoolNow
CALSCALE:GREGORIAN
BEGIN:VEVENT
UID:a342a7ac-740c-11ee-9a9b-0a58a9feac02
DTSTAMP:20231026T144101Z
SUMMARY:No School - Parent/Teacher Conferences 8:00 am - 3:00 pm
URL;VALUE=URI:https://www.ronank12.edu/schools/pablo/calendar/4902753/no-sc
 hool-parent-teacher-conferences-8-00-am-3-00-pm
DTSTART;VALUE=DATE:20231110
DTEND;VALUE=DATE:20231111
END:VEVENT
END:VCALENDAR
