BEGIN:VCALENDAR
VERSION:2.0
PRODID:SchoolNow
CALSCALE:GREGORIAN
BEGIN:VEVENT
UID:c6f2975c-740c-11ee-8e4e-0234981cc3ff
DTSTAMP:20231026T155333Z
SUMMARY:Early Release 12:00 Noon -  Thanksgiving Break
URL;VALUE=URI:https://www.ronank12.edu/schools/pablo/calendar/4902756/early
 -release-12-00-noon-thanksgiving-break-begins
DTSTART;VALUE=DATE:20231122
DTEND;VALUE=DATE:20231123
END:VEVENT
END:VCALENDAR
