BEGIN:VCALENDAR
VERSION:2.0
PRODID:SchoolNow
CALSCALE:GREGORIAN
BEGIN:VEVENT
UID:10fa6230-740d-11ee-8c95-0a58a9feac02
DTSTAMP:20231026T143636Z
SUMMARY:PES Christmas Concert 9:00 am
URL;VALUE=URI:https://www.ronank12.edu/schools/pablo/calendar/4902761/pes-c
 hristmas-concert-9-00-am
DTSTART;VALUE=DATE:20231221
DTEND;VALUE=DATE:20231222
END:VEVENT
END:VCALENDAR
