BEGIN:VCALENDAR
VERSION:2.0
PRODID:SchoolNow
CALSCALE:GREGORIAN
BEGIN:VEVENT
UID:3023c020-740d-11ee-aec3-0a527d3fed1d
DTSTAMP:20231026T143744Z
SUMMARY:Early Release 12:00 Noon - Christmas Break
URL;VALUE=URI:https://www.ronank12.edu/schools/pablo/calendar/4902765/early
 -release-12-00-noon-christmas-break
DTSTART;VALUE=DATE:20231221
DTEND;VALUE=DATE:20240103
END:VEVENT
END:VCALENDAR
