BEGIN:VCALENDAR
VERSION:2.0
PRODID:SchoolNow
CALSCALE:GREGORIAN
BEGIN:VEVENT
UID:4d4061ae-740d-11ee-ae3a-0a58a9feac02
DTSTAMP:20231026T143817Z
SUMMARY:School Resumes
URL;VALUE=URI:https://www.ronank12.edu/schools/pablo/calendar/4902769/schoo
 l-resumes
DTSTART;VALUE=DATE:20240103
DTEND;VALUE=DATE:20240104
END:VEVENT
END:VCALENDAR
