BEGIN:VCALENDAR
VERSION:2.0
PRODID:SchoolNow
CALSCALE:GREGORIAN
BEGIN:VEVENT
UID:63a41a9e-740d-11ee-b854-0a58a9feac02
DTSTAMP:20231026T143855Z
SUMMARY:No School - Martin Luther King Jr. Day
URL;VALUE=URI:https://www.ronank12.edu/schools/pablo/calendar/4902772/no-sc
 hool-martin-luther-king-jr-day
DTSTART;VALUE=DATE:20240115
DTEND;VALUE=DATE:20240116
END:VEVENT
END:VCALENDAR
