BEGIN:VCALENDAR
VERSION:2.0
PRODID:SchoolNow
CALSCALE:GREGORIAN
BEGIN:VEVENT
UID:73ded6ec-740d-11ee-ab31-0a58a9feac02
DTSTAMP:20231026T143922Z
SUMMARY:End of 2nd Quarter
URL;VALUE=URI:https://www.ronank12.edu/schools/pablo/calendar/4902773/end-o
 f-2nd-quarter
DTSTART;VALUE=DATE:20240126
DTEND;VALUE=DATE:20240127
END:VEVENT
END:VCALENDAR
