BEGIN:VCALENDAR
VERSION:2.0
PRODID:SchoolNow
CALSCALE:GREGORIAN
BEGIN:VEVENT
UID:e1cb564e-7417-11ee-b6bd-02bcf17e5985
DTSTAMP:20231026T155401Z
SUMMARY:No School  - Thanksgiving Break
URL;VALUE=URI:https://www.ronank12.edu/schools/pablo/calendar/4903177/no-sc
 hool-thanksgiving-break
DTSTART;VALUE=DATE:20231123
DTEND;VALUE=DATE:20231124
END:VEVENT
END:VCALENDAR
