BEGIN:VCALENDAR
VERSION:2.0
PRODID:SchoolNow
CALSCALE:GREGORIAN
BEGIN:VEVENT
UID:f7912756-7417-11ee-9bc8-02bcf17e5985
DTSTAMP:20231026T155438Z
SUMMARY:No School - Thanksgiving Break
URL;VALUE=URI:https://www.ronank12.edu/schools/pablo/calendar/4903178/no-sc
 hool-thanksgiving-break
DTSTART;VALUE=DATE:20231124
DTEND;VALUE=DATE:20231125
END:VEVENT
END:VCALENDAR
