BEGIN:VCALENDAR
VERSION:2.0
PRODID:SchoolNow
CALSCALE:GREGORIAN
BEGIN:VEVENT
UID:f882fdfe-ab23-11ee-8298-0a58a9feac02
DTSTAMP:20240104T170907Z
SUMMARY:Breakfast With Books 7:30 - 8:00 a.m.
URL;VALUE=URI:https://www.ronank12.edu/schools/pablo/calendar/5103645/break
 fast-with-books-7-30-8-00-a-m
DTSTART;VALUE=DATE:20240209
DTEND;VALUE=DATE:20240210
END:VEVENT
END:VCALENDAR
