BEGIN:VCALENDAR
VERSION:2.0
PRODID:SchoolNow
CALSCALE:GREGORIAN
BEGIN:VEVENT
UID:2c56f888-ab24-11ee-b839-0a58a9feac02
DTSTAMP:20240104T171034Z
SUMMARY:Early Release 12:00 Noon
URL;VALUE=URI:https://www.ronank12.edu/schools/pablo/calendar/5103647/early
 -release-12-00-noon
DTSTART;VALUE=DATE:20240209
DTEND;VALUE=DATE:20240210
END:VEVENT
END:VCALENDAR
