BEGIN:VCALENDAR
VERSION:2.0
PRODID:SchoolNow
CALSCALE:GREGORIAN
BEGIN:VEVENT
UID:418afb82-ab24-11ee-b342-0a58a9feac02
DTSTAMP:20240104T171110Z
SUMMARY:No School
URL;VALUE=URI:https://www.ronank12.edu/schools/pablo/calendar/5103648/no-sc
 hool
DTSTART;VALUE=DATE:20240223
DTEND;VALUE=DATE:20240224
END:VEVENT
END:VCALENDAR
