BEGIN:VCALENDAR
VERSION:2.0
PRODID:SchoolNow
CALSCALE:GREGORIAN
BEGIN:VEVENT
UID:6d17f598-ab24-11ee-8bab-028532627791
DTSTAMP:20240104T171223Z
SUMMARY:Early Release 12:00 Noon
URL;VALUE=URI:https://www.ronank12.edu/schools/pablo/calendar/5103649/early
 -release-12-00-noon
DTSTART;VALUE=DATE:20240315
DTEND;VALUE=DATE:20240316
END:VEVENT
END:VCALENDAR
