BEGIN:VCALENDAR
VERSION:2.0
PRODID:SchoolNow
CALSCALE:GREGORIAN
BEGIN:VEVENT
UID:8672c13a-ab24-11ee-bf99-0a58a9feac02
DTSTAMP:20240104T171305Z
SUMMARY:No School - Spring Break
URL;VALUE=URI:https://www.ronank12.edu/schools/pablo/calendar/5103650/no-sc
 hool-spring-break
DTSTART;VALUE=DATE:20240329
DTEND;VALUE=DATE:20240403
END:VEVENT
END:VCALENDAR
