BEGIN:VCALENDAR
VERSION:2.0
PRODID:SchoolNow
CALSCALE:GREGORIAN
BEGIN:VEVENT
UID:9686cf08-ab24-11ee-b7a5-0a58a9feac02
DTSTAMP:20240104T171332Z
SUMMARY:School Resumes
URL;VALUE=URI:https://www.ronank12.edu/schools/pablo/calendar/5103651/schoo
 l-resumes
DTSTART;VALUE=DATE:20240403
DTEND;VALUE=DATE:20240404
END:VEVENT
END:VCALENDAR
