BEGIN:VCALENDAR
VERSION:2.0
PRODID:SchoolNow
CALSCALE:GREGORIAN
BEGIN:VEVENT
UID:ac58de48-ab24-11ee-846c-0a58a9feac02
DTSTAMP:20240104T171409Z
SUMMARY:No School
URL;VALUE=URI:https://www.ronank12.edu/schools/pablo/calendar/5103652/no-sc
 hool
DTSTART;VALUE=DATE:20240419
DTEND;VALUE=DATE:20240420
END:VEVENT
END:VCALENDAR
