BEGIN:VCALENDAR
VERSION:2.0
PRODID:SchoolNow
CALSCALE:GREGORIAN
BEGIN:VEVENT
UID:f5347a8c-ab24-11ee-bada-0a58a9feac02
DTSTAMP:20240104T171611Z
SUMMARY:Kindergarten Roundup - KWH Elementary - 8:00 a.m. - 3:00 p.m.
URL;VALUE=URI:https://www.ronank12.edu/schools/pablo/calendar/5103653/kinde
 rgarten-roundup-kwh-elementary-8-00-a-m-3-00-p-m
DTSTART;VALUE=DATE:20240418
DTEND;VALUE=DATE:20240419
END:VEVENT
END:VCALENDAR
