BEGIN:VCALENDAR
VERSION:2.0
PRODID:SchoolNow
CALSCALE:GREGORIAN
BEGIN:VEVENT
UID:0e68da7a-ab25-11ee-862d-0a58a9feac02
DTSTAMP:20240104T171653Z
SUMMARY:Early Release 12:00 Noon
URL;VALUE=URI:https://www.ronank12.edu/schools/pablo/calendar/5103654/early
 -release-12-00-noon
DTSTART;VALUE=DATE:20240503
DTEND;VALUE=DATE:20240504
END:VEVENT
END:VCALENDAR
