BEGIN:VCALENDAR
VERSION:2.0
PRODID:SchoolNow
CALSCALE:GREGORIAN
BEGIN:VEVENT
UID:22a0bc42-ab25-11ee-a3cf-0a58a9feac02
DTSTAMP:20240104T171727Z
SUMMARY:No School
URL;VALUE=URI:https://www.ronank12.edu/schools/pablo/calendar/5103655/no-sc
 hool
DTSTART;VALUE=DATE:20240517
DTEND;VALUE=DATE:20240518
END:VEVENT
END:VCALENDAR
