BEGIN:VCALENDAR
VERSION:2.0
PRODID:SchoolNow
CALSCALE:GREGORIAN
BEGIN:VEVENT
UID:35f5ea4c-ab25-11ee-9852-0a58a9feac02
DTSTAMP:20240104T171800Z
SUMMARY:No School - Memorial Day
URL;VALUE=URI:https://www.ronank12.edu/schools/pablo/calendar/5103656/no-sc
 hool-memorial-day
DTSTART;VALUE=DATE:20240527
DTEND;VALUE=DATE:20240528
END:VEVENT
END:VCALENDAR
