BEGIN:VCALENDAR
VERSION:2.0
PRODID:SchoolNow
CALSCALE:GREGORIAN
BEGIN:VEVENT
UID:59c393ac-ab25-11ee-b830-0a58a9feac02
DTSTAMP:20240104T171900Z
SUMMARY:End of Quarter 3
URL;VALUE=URI:https://www.ronank12.edu/schools/pablo/calendar/5103657/end-o
 f-quarter-3
DTSTART;VALUE=DATE:20240328
DTEND;VALUE=DATE:20240329
END:VEVENT
END:VCALENDAR
