BEGIN:VCALENDAR
VERSION:2.0
PRODID:SchoolNow
CALSCALE:GREGORIAN
BEGIN:VEVENT
UID:b0b23970-ab25-11ee-a5ce-0a58a9feac02
DTSTAMP:20240104T172126Z
SUMMARY:Last Day of School - End of 4th Quarter -  Early Release 12:00 Noon
URL;VALUE=URI:https://www.ronank12.edu/schools/pablo/calendar/5103658/last-
 day-of-school-end-of-4th-quarter-early-release-12-00-noon
DTSTART;VALUE=DATE:20240607
DTEND;VALUE=DATE:20240608
END:VEVENT
END:VCALENDAR
