BEGIN:VCALENDAR
VERSION:2.0
PRODID:SchoolNow
CALSCALE:GREGORIAN
BEGIN:VEVENT
UID:5ef37aea-ab2f-11ee-8abe-028532627791
DTSTAMP:20240104T183043Z
SUMMARY:Bingo For Books 6:00 - 7:00 p.m.
URL;VALUE=URI:https://www.ronank12.edu/schools/pablo/calendar/5103663/bingo
 -for-books-6-00-7-00-p-m
DTSTART;VALUE=DATE:20240307
DTEND;VALUE=DATE:20240308
END:VEVENT
END:VCALENDAR
