BEGIN:VCALENDAR
VERSION:2.0
PRODID:SchoolNow
CALSCALE:GREGORIAN
BEGIN:VEVENT
UID:9ec080de-5ffa-11ef-bf19-0a58a9feac02
DTSTAMP:20240821T201908Z
SUMMARY:School Begins 8:00-3:00
URL;VALUE=URI:https://www.ronank12.edu/schools/pablo/calendar/6438541/schoo
 l-begins-8-00-3-00
DTSTART;VALUE=DATE:20240827
DTEND;VALUE=DATE:20240828
END:VEVENT
END:VCALENDAR
