BEGIN:VCALENDAR
VERSION:2.0
PRODID:SchoolNow
CALSCALE:GREGORIAN
BEGIN:VEVENT
UID:cc66f716-5ffa-11ef-9e3a-02186fdfdaa3
DTSTAMP:20240821T202024Z
SUMMARY:No School
URL;VALUE=URI:https://www.ronank12.edu/schools/pablo/calendar/6438542/no-sc
 hool
DTSTART;VALUE=DATE:20240916
DTEND;VALUE=DATE:20240917
END:VEVENT
END:VCALENDAR
