BEGIN:VCALENDAR
VERSION:2.0
PRODID:SchoolNow
CALSCALE:GREGORIAN
BEGIN:VEVENT
UID:e392bace-5ffa-11ef-9f03-0a58a9feac02
DTSTAMP:20240821T202103Z
SUMMARY:Breakfast With Books 7:30 - 8:00
URL;VALUE=URI:https://www.ronank12.edu/schools/pablo/calendar/6438543/break
 fast-with-books-7-30-8-00
DTSTART;VALUE=DATE:20240927
DTEND;VALUE=DATE:20240928
END:VEVENT
END:VCALENDAR
