BEGIN:VCALENDAR
VERSION:2.0
PRODID:SchoolNow
CALSCALE:GREGORIAN
BEGIN:VEVENT
UID:4a4c135e-7a9b-11ef-8d27-0e68befffa43
DTSTAMP:20240924T173445Z
SUMMARY:Early Release 12:00
URL;VALUE=URI:https://www.ronank12.edu/schools/pablo/calendar/6680847/early
 -release-12-00
DTSTART;VALUE=DATE:20241004
DTEND;VALUE=DATE:20241005
END:VEVENT
END:VCALENDAR
