BEGIN:VCALENDAR
VERSION:2.0
PRODID:SchoolNow
CALSCALE:GREGORIAN
BEGIN:VEVENT
UID:5cbd1c36-7a9b-11ef-a19d-0247624df3ad
DTSTAMP:20240924T173516Z
SUMMARY:Early Release 12:00
URL;VALUE=URI:https://www.ronank12.edu/schools/pablo/calendar/6680848/early
 -release-12-00
DTSTART;VALUE=DATE:20241016
DTEND;VALUE=DATE:20241017
END:VEVENT
END:VCALENDAR
