BEGIN:VCALENDAR
VERSION:2.0
PRODID:SchoolNow
CALSCALE:GREGORIAN
BEGIN:VEVENT
UID:723e0c00-7a9b-11ef-a83a-0e6896bb8605
DTSTAMP:20240924T173552Z
SUMMARY:No School - State Educator Days
URL;VALUE=URI:https://www.ronank12.edu/schools/pablo/calendar/6680849/no-sc
 hool-state-educator-days
DTSTART;VALUE=DATE:20241017
DTEND;VALUE=DATE:20241019
END:VEVENT
END:VCALENDAR
