BEGIN:VCALENDAR
VERSION:2.0
PRODID:SchoolNow
CALSCALE:GREGORIAN
BEGIN:VEVENT
UID:875aca88-7a9b-11ef-833f-0a58a9feac02
DTSTAMP:20240924T173628Z
SUMMARY:End of Quarter 1
URL;VALUE=URI:https://www.ronank12.edu/schools/pablo/calendar/6680850/end-o
 f-quarter-1
DTSTART;VALUE=DATE:20241101
DTEND;VALUE=DATE:20241102
END:VEVENT
END:VCALENDAR
