BEGIN:VCALENDAR
VERSION:2.0
PRODID:SchoolNow
CALSCALE:GREGORIAN
BEGIN:VEVENT
UID:a434c920-90bb-11ef-b165-0e1e2a1376f5
DTSTAMP:20241022T212145Z
SUMMARY:Parent Teacher Conferences 3:30-7:00
URL;VALUE=URI:https://www.ronank12.edu/schools/pablo/calendar/6878009/paren
 t-teacher-conferences-3-30-7-00
DTSTART;VALUE=DATE:20241107
DTEND;VALUE=DATE:20241108
END:VEVENT
END:VCALENDAR
