BEGIN:VCALENDAR
VERSION:2.0
PRODID:SchoolNow
CALSCALE:GREGORIAN
BEGIN:VEVENT
UID:be804c00-90bb-11ef-9d35-024cbf038cf1
DTSTAMP:20241022T212230Z
SUMMARY:Parent Teacher Conferences 8:00-3:00
URL;VALUE=URI:https://www.ronank12.edu/schools/pablo/calendar/6878010/paren
 t-teacher-conferences-8-00-3-00
DTSTART:20241108T222100Z
DTEND:20241108T232100Z
END:VEVENT
END:VCALENDAR
