BEGIN:VCALENDAR
VERSION:2.0
PRODID:SchoolNow
CALSCALE:GREGORIAN
BEGIN:VEVENT
UID:754375ca-90bc-11ef-a296-0e01b0390b6b
DTSTAMP:20241022T212824Z
SUMMARY:Early Release 12:00 Thanksgiving Break
URL;VALUE=URI:https://www.ronank12.edu/schools/pablo/calendar/6878011/early
 -release-thanksgiving-break-12-00
DTSTART;VALUE=DATE:20241127
DTEND;VALUE=DATE:20241130
END:VEVENT
END:VCALENDAR
