BEGIN:VCALENDAR
VERSION:2.0
PRODID:SchoolNow
CALSCALE:GREGORIAN
BEGIN:VEVENT
UID:fc5a10ec-a5f1-11ef-a3a3-0a58a9feac02
DTSTAMP:20241118T212010Z
SUMMARY:Early Release 12:00 Winter Break
URL;VALUE=URI:https://www.ronank12.edu/schools/pablo/calendar/7042372/early
 -release-12-00-christmas-break
DTSTART;VALUE=DATE:20241220
DTEND;VALUE=DATE:20250104
END:VEVENT
END:VCALENDAR
