BEGIN:VCALENDAR
VERSION:2.0
PRODID:SchoolNow
CALSCALE:GREGORIAN
BEGIN:VEVENT
UID:62a7f8dc-a5f2-11ef-b1b2-0a58a9feac02
DTSTAMP:20241118T212145Z
SUMMARY:PES Christmas Concert 9:00 a.m.
URL;VALUE=URI:https://www.ronank12.edu/schools/pablo/calendar/7042373/pes-c
 hristmas-concert
DTSTART;VALUE=DATE:20241220
DTEND;VALUE=DATE:20241221
END:VEVENT
END:VCALENDAR
