BEGIN:VCALENDAR
VERSION:2.0
PRODID:SchoolNow
CALSCALE:GREGORIAN
BEGIN:VEVENT
UID:07e380e6-a5f3-11ef-bd76-0a58a9feac02
DTSTAMP:20241118T212109Z
SUMMARY:School Resumes
URL;VALUE=URI:https://www.ronank12.edu/schools/pablo/calendar/7042437/schoo
 l-resumes
DTSTART;VALUE=DATE:20250106
DTEND;VALUE=DATE:20250107
END:VEVENT
END:VCALENDAR
