BEGIN:VCALENDAR
VERSION:2.0
PRODID:SchoolNow
CALSCALE:GREGORIAN
BEGIN:VEVENT
UID:3d5856e8-a5f3-11ef-8dfe-0a58a9feac02
DTSTAMP:20241118T212239Z
SUMMARY:No School Martin Luther King Jr. Day
URL;VALUE=URI:https://www.ronank12.edu/schools/pablo/calendar/7042438/no-sc
 hool-martin-luther-king-jr-day
DTSTART;VALUE=DATE:20250120
DTEND;VALUE=DATE:20250121
END:VEVENT
END:VCALENDAR
