BEGIN:VCALENDAR
VERSION:2.0
PRODID:SchoolNow
CALSCALE:GREGORIAN
BEGIN:VEVENT
UID:5ab27944-a5f3-11ef-a189-0a58a9feac02
DTSTAMP:20241118T212328Z
SUMMARY:End of 2nd Quarter
URL;VALUE=URI:https://www.ronank12.edu/schools/pablo/calendar/7042439/end-o
 f-2nd-quarter
DTSTART;VALUE=DATE:20250131
DTEND;VALUE=DATE:20250201
END:VEVENT
END:VCALENDAR
