BEGIN:VCALENDAR
VERSION:2.0
PRODID:SchoolNow
CALSCALE:GREGORIAN
BEGIN:VEVENT
UID:1f2b084a-a5f4-11ef-8911-0a58a9feac02
DTSTAMP:20241118T212858Z
SUMMARY:Breakfast With Books 7:30 - 8:00
URL;VALUE=URI:https://www.ronank12.edu/schools/pablo/calendar/7042481/break
 fast-with-books-7-30-8-00
DTSTART;VALUE=DATE:20250207
DTEND;VALUE=DATE:20250208
END:VEVENT
END:VCALENDAR
