BEGIN:VCALENDAR
VERSION:2.0
PRODID:SchoolNow
CALSCALE:GREGORIAN
BEGIN:VEVENT
UID:36918f86-a5f4-11ef-8b40-028c54618209
DTSTAMP:20241118T212937Z
SUMMARY:Early Release 12:00
URL;VALUE=URI:https://www.ronank12.edu/schools/pablo/calendar/7042482/early
 -release-12-00
DTSTART;VALUE=DATE:20250214
DTEND;VALUE=DATE:20250215
END:VEVENT
END:VCALENDAR
