BEGIN:VCALENDAR
VERSION:2.0
PRODID:SchoolNow
CALSCALE:GREGORIAN
BEGIN:VEVENT
UID:60ef90b6-a5f4-11ef-85b9-0a58a9feac02
DTSTAMP:20241118T213048Z
SUMMARY:No School
URL;VALUE=URI:https://www.ronank12.edu/schools/pablo/calendar/7043398/no-sc
 hool
DTSTART;VALUE=DATE:20250307
DTEND;VALUE=DATE:20250308
END:VEVENT
END:VCALENDAR
