BEGIN:VCALENDAR
VERSION:2.0
PRODID:SchoolNow
CALSCALE:GREGORIAN
BEGIN:VEVENT
UID:6db5fd76-a5f4-11ef-af2a-0a58a9feac02
DTSTAMP:20241118T213110Z
SUMMARY:No School
URL;VALUE=URI:https://www.ronank12.edu/schools/pablo/calendar/7043479/no-sc
 hool
DTSTART;VALUE=DATE:20250321
DTEND;VALUE=DATE:20250322
END:VEVENT
END:VCALENDAR
